BEGIN:VCALENDAR
VERSION:2.0
PRODID:-//Tukios.com/
BEGIN:VEVENT
UID:d1325ccc-7957-4f0e-8f8a-a97332f158ca@www.konicekandcollettfuneralhome.com
DTSTAMP:20260423T172946Z
DTSTART:20260429T140000Z
DTEND:20260429T150000Z
SUMMARY:Interment for Francis Bombardier III
DESCRIPTION:
URL:https://www.konicekandcollettfuneralhome.com/obituaries/francis-bombardier
LOCATION:Oakwood Cemetery 50 101st Street  Troy NY 12180
GEO:42.7532706;-73.6783848
END:VEVENT
END:VCALENDAR